BEGIN:VCALENDAR
VERSION:2.0
PRODID:-//Verdensarven i Telemark - ECPv6.15.7//NONSGML v1.0//EN
CALSCALE:GREGORIAN
METHOD:PUBLISH
X-ORIGINAL-URL:https://www.industriarven.no
X-WR-CALDESC:Arrangementer for Verdensarven i Telemark
REFRESH-INTERVAL;VALUE=DURATION:PT1H
X-Robots-Tag:noindex
X-PUBLISHED-TTL:PT1H
BEGIN:VTIMEZONE
TZID:Europe/Oslo
BEGIN:DAYLIGHT
TZOFFSETFROM:+0100
TZOFFSETTO:+0200
TZNAME:CEST
DTSTART:20170326T010000
END:DAYLIGHT
BEGIN:STANDARD
TZOFFSETFROM:+0200
TZOFFSETTO:+0100
TZNAME:CET
DTSTART:20171029T010000
END:STANDARD
BEGIN:DAYLIGHT
TZOFFSETFROM:+0100
TZOFFSETTO:+0200
TZNAME:CEST
DTSTART:20180325T010000
END:DAYLIGHT
BEGIN:STANDARD
TZOFFSETFROM:+0200
TZOFFSETTO:+0100
TZNAME:CET
DTSTART:20181028T010000
END:STANDARD
BEGIN:DAYLIGHT
TZOFFSETFROM:+0100
TZOFFSETTO:+0200
TZNAME:CEST
DTSTART:20190331T010000
END:DAYLIGHT
BEGIN:STANDARD
TZOFFSETFROM:+0200
TZOFFSETTO:+0100
TZNAME:CET
DTSTART:20191027T010000
END:STANDARD
BEGIN:DAYLIGHT
TZOFFSETFROM:+0100
TZOFFSETTO:+0200
TZNAME:CEST
DTSTART:20200329T010000
END:DAYLIGHT
BEGIN:STANDARD
TZOFFSETFROM:+0200
TZOFFSETTO:+0100
TZNAME:CET
DTSTART:20201025T010000
END:STANDARD
BEGIN:DAYLIGHT
TZOFFSETFROM:+0100
TZOFFSETTO:+0200
TZNAME:CEST
DTSTART:20210328T010000
END:DAYLIGHT
BEGIN:STANDARD
TZOFFSETFROM:+0200
TZOFFSETTO:+0100
TZNAME:CET
DTSTART:20211031T010000
END:STANDARD
BEGIN:DAYLIGHT
TZOFFSETFROM:+0100
TZOFFSETTO:+0200
TZNAME:CEST
DTSTART:20220327T010000
END:DAYLIGHT
BEGIN:STANDARD
TZOFFSETFROM:+0200
TZOFFSETTO:+0100
TZNAME:CET
DTSTART:20221030T010000
END:STANDARD
BEGIN:DAYLIGHT
TZOFFSETFROM:+0100
TZOFFSETTO:+0200
TZNAME:CEST
DTSTART:20230326T010000
END:DAYLIGHT
BEGIN:STANDARD
TZOFFSETFROM:+0200
TZOFFSETTO:+0100
TZNAME:CET
DTSTART:20231029T010000
END:STANDARD
END:VTIMEZONE
BEGIN:VEVENT
DTSTART;VALUE=DATE:20200506
DTEND;VALUE=DATE:20220509
DTSTAMP:20260421T135150
CREATED:20180620T090325Z
LAST-MODIFIED:20180917T121450Z
UID:3021-1588723200-1652054399@www.industriarven.no
SUMMARY:Rjukan-Notodden industriarv - App
DESCRIPTION:Brukerguide\n\nLast ned appen «Rjukan-Notodden industriarv».\nFølg instruksjon for registrering i appen – bruk gjerne Facebook-kontoen din.\nTrykk på ”Nearby” nederst til venstre\, du vil da se kart over aktiviteter der du er.\nTrykk på aktiviteten for å se mer informasjon om denne.\nTrykk på ”Merkelapp” for å velge interesseområder du vil ser på kartet.\nGå til en av spottene på kartet og informasjonen kommer automatisk på telefonen din.\nDu får opp varsel når du passerer et punkt kun én gang pr dag. Du kan også se innholdet ved å trykke på punktene i kartet.\n\nVi er i startgropa\, og flere punkter vil komme etterhvert. Last ned appen og ta den i bruk. Gi oss også gjerne tilbakemelding på hva du synes.
URL:https://www.industriarven.no/event/rjukan-notodden-industriarv-app/
CATEGORIES:Aktivitet
ATTACH;FMTTYPE=image/jpeg:https://www.industriarven.no/wp-content/uploads/2018/06/iPhone_app3_grey.jpg
END:VEVENT
BEGIN:VEVENT
DTSTART;VALUE=DATE:20180804
DTEND;VALUE=DATE:20181028
DTSTAMP:20260421T135150
CREATED:20171126T230601Z
LAST-MODIFIED:20180619T122436Z
UID:593-1533340800-1540684799@www.industriarven.no
SUMMARY:Orientering - Vemork og Verdensarv i bilder
DESCRIPTION:I denne omvisningen får du høre den spennende historien om entreprenøren Sam Eyde og eventyret Norsk Hydro som skapte industribyen Rjukan. Det fortelles om en by i rask vekst\, som på kort tid ble en viktig arena for Norges industri. Du får historien om Vemork kraftstasjon som var verdens største da den sto ferdig i 1911. Og ikke minst hvorfor ble kraftverket bygget på en berghylle rett ved kanten av et stup. \nVi forteller om hvordan Vemork ble et museum og hvordan Rjukan og Notodden ble Verdensarv. \nStedet har også en viktig og sterk historie fra andre verdenskrig. En av de mest omtalte sabotasjeaksjonene under andre verdenskrig\, sabotasjen mot tungtvannanlegget\, skjedde nettopp her. Formidlerne på Vemork forteller om de fire store sabotasjeaksjonene som skjedde mot tungtvannsproduksjonen på Vemork og fergen D/F Hydro. \nPresentasjonen blir gjennomført på norsk eller engelsk etter behov og varer i ca 30min. Utenfor museets høysesong må omvisning forhåndsbestilles.
URL:https://www.industriarven.no/event/orientering-vemork-verdensarv-bilder/
CATEGORIES:Aktivitet
ATTACH;FMTTYPE=image/jpeg:https://www.industriarven.no/wp-content/uploads/2017/11/Vaer-Vemork025-Foto-NIA.jpg
END:VEVENT
BEGIN:VEVENT
DTSTART;VALUE=DATE:20180731
DTEND;VALUE=DATE:20180920
DTSTAMP:20260421T135150
CREATED:20171126T231406Z
LAST-MODIFIED:20180619T122201Z
UID:599-1532995200-1537401599@www.industriarven.no
SUMMARY:Hør og føl på Vemorks historie- omvisning for Blinde og svaksynte
DESCRIPTION:Våre formidlere tar gruppen med på en orientering på Vemork\, hvor den unike historien til verdensarvstedet blir fortalt via modeller og synstolkning. Vi bruker audioguide slik at alle kan høre formidleren klart og tydelig. \nKapasitet på maks40stykker\, det er viktig at vi på forhånd vet hvor mange som er blinde og svaksynte og hvor mange som er ledsagere. Hvis gruppen har folk med fysiske utfordringer slik som gåstol eller rullestol er dette også viktig informasjon for oss å få på forhånd slik at vi kan tilrettelegge for best mulig formidling. \nOmvisningen må forhåndsbestilles.
URL:https://www.industriarven.no/event/hor-fol-pa-vemorks-historie-omvisning-blinde-svaksynte/
CATEGORIES:Aktivitet
ATTACH;FMTTYPE=image/jpeg:https://www.industriarven.no/wp-content/uploads/2017/11/Hydrogenfabrikk-modell-002.jpg
END:VEVENT
BEGIN:VEVENT
DTSTART;VALUE=DATE:20180703
DTEND;VALUE=DATE:20180801
DTSTAMP:20260421T135150
CREATED:20180504T133754Z
LAST-MODIFIED:20180619T223840Z
UID:2687-1530576000-1533081599@www.industriarven.no
SUMMARY:Verdensarvbuss Notodden – Rjukan – Møsvatn
DESCRIPTION:Verdensarvturer i buss med egen guide\nDagstur avreise kl. 09.00\n3.Juli\, 10.Juli\, 17.Juli\, 24.juli\, og 31.Juli \nDeltakerne får se og oppleve sentrale steder og naturgitte forutsetninger for industriarven Notodden – Rjukan\, fra Lysbuen industrimuseum gjennom det mest sentrale verdensarvområdet på Notodden via Tinnoset og Mæl til verdensarvbyen Rjukan og Vemork og videre til Møsvatn før retur til Hydroparken på Notodden. \nLunsj er lagt til Hardangervidda Nasjonalparksenter (ikke inkludert i prisen)
URL:https://www.industriarven.no/event/verdensarvbuss-notodden-rjukan-mosvatn/
CATEGORIES:Aktivitet
ATTACH;FMTTYPE=image/jpeg:https://www.industriarven.no/wp-content/uploads/2018/05/Verdensarvbussen.jpg
END:VEVENT
BEGIN:VEVENT
DTSTART;VALUE=DATE:20180627
DTEND;VALUE=DATE:20180809
DTSTAMP:20260421T135150
CREATED:20180530T091357Z
LAST-MODIFIED:20180619T224225Z
UID:2767-1530057600-1533772799@www.industriarven.no
SUMMARY:Arkitekturens Klasseskille
DESCRIPTION:Møtt opp for vandring\, alle onsdager i perioden 27. juni – 8. august kl. 12.00 fra Rjukan Torg. \nBli med vår kunnskapsrike guide på byvandring i sommer og få et innblikk i Norges mest moderne by på Rjukan for 100 år siden. Vandringen avsluttes med et eksklusivt besøk i turbinhallen i Såheim kraftverk.\n  \nUnge\, lovende arkitekter\nDen 4. juli 1907 bestemte Norsk Hydro at det skulle bygges en by i Vestfjorddalen. \nMed full fokus på at produksjonen av kunstgjødsel skulle fungere perfekt\, ble byen konstruert med alle nødvendige funksjoner som en komplett by trengte. \nUnge\, lovende arkitekter ble satt på oppdraget for å skape arkitektoniske perler. Alle tegninger ble godkjent av Sam Eyde før byggingen ble iverksatt. \nAlle ble tatt godt vare på\, men klasseskillet var markant. «Si meg hvor du bor\, og jeg vet hvor du jobber»\, sa de på Rjukan. Det var ingen tilfeldighet hvor du bodde\, og det var forskjell på dine rettigheter om du var arbeider eller direktør.
URL:https://www.industriarven.no/event/arkitekturens-klasseskille/
CATEGORIES:Aktivitet
ATTACH;FMTTYPE=image/jpeg:https://www.industriarven.no/wp-content/uploads/2018/05/arkitekturens_klasseskille.jpg
END:VEVENT
BEGIN:VEVENT
DTSTART;VALUE=DATE:20180627
DTEND;VALUE=DATE:20180814
DTSTAMP:20260421T135150
CREATED:20180515T100218Z
LAST-MODIFIED:20180619T224916Z
UID:2715-1530057600-1534204799@www.industriarven.no
SUMMARY:En uforglemmelig tidsreise
DESCRIPTION:På sporet og i kjølvannet av verdensarven 2018\nTelemark Travel\, i samarbeid med NSB og NIA\, tilbyr dagsreiser i verdensarvområdet Rjukan-Notodden. Turene inkluderer togreise på Bratsbergbanen fra og til Grenlandsområdet-Notodden\, guidet busstur til Rjukan\, ferjetur med M/F Storegut på Tinnsjøen\, reise med Rjukanbanen og omvisning på Vemork (onsdager)/Lysbuen (fredager). \n\n                \n                    Rjukan-Notodden industriarv – App\n                     Forrige\n                    1 av 3\n                    Neste \n                \n                \n                        \n                            \n                        \n                    Foto: NIA\n                        \n                            \n                        \n                    Foto: Hans Dieter Fleger/NIA\n                        \n                            \n                        \n                    Foto: Bjørn Owe Holmberg/NIA\nSammen gjør Telemark Travel\, NSB og NIA det enkelt og komfortabelt å oppleve transportåren i verdensarvområdet. Denne turen byr på det beste av Telemark; spektakulære naturopplevelser og spennende industri- og transporthistorie fra en forgangen tid. \nSesong 2018\n27.juni – 13.august 2018\nOnsdager og fredager \nPriser\nFra Grenlandsområdet kr 1200\,- Barn kr 600\,- Barn under 10 år gratis\nAvreise Porsgrunn 07.51 Skien 07.59 \nFra Notodden kr 1000\,- Barn kr 500 \,- Barn under 10 år gratis\nAvreise Notodden ca 09.00 \nBilletter kjøpes ombord på Telemark Travels buss på Notodden. Dette gjelder også reisende fra Grenland. Det er mulig å forhåndsbestille billett med setereservasjon gjennom Telemark Travel på tlf 92628200. Grupper på 10+ må ta kontakt i forkant for grupperabatt og setebooking. Prisen inkluderer inngangsbilletter på alle aktiviteter og transport via NSB/Telemark Travel. NB! Bespisning er ikke inkludert. Det er muligheter for kjøp av mat underveis. \nTelemark Travel\, NIA og NSB ønsker velkommen til en tidsreise i verdensarven! \nSe mer informasjon på www.telemarktravel.no eller www.facebook.com/telemarktravel
URL:https://www.industriarven.no/event/en-uforglemmelig-tidsreise/
CATEGORIES:Aktivitet
ATTACH;FMTTYPE=image/jpeg:https://www.industriarven.no/wp-content/uploads/2018/05/GaryPeytonNIA_crop.jpg
END:VEVENT
BEGIN:VEVENT
DTSTART;VALUE=DATE:20180626
DTEND;VALUE=DATE:20180810
DTSTAMP:20260421T135150
CREATED:20180507T104745Z
LAST-MODIFIED:20180619T225652Z
UID:2698-1529971200-1533859199@www.industriarven.no
SUMMARY:Guidet tur med Snutebussen
DESCRIPTION:Snutebussen kjører hver tirsdag og torsdag i perioden 26.juni – 9.august. Avreise fra Rjukan Torg kl. 12. \nMed en guidet tur rundt i Rjukan by får du et innblikk i hvordan Rjukan ble bygd opp for 100 år siden. Turen tar du med Snutebussen fra 1956. \nEn guidet tur med «Snutebussen» er en flott måte å få et innblikk i Rjukans verdensarv på. \n  \nRjukans historie\nI begynnelsen av forrige århundre bestod Vestfjorddalen av noen få gårdsbruk. Så kom Sam Eyde og «oppdaget» Rjukanfossen. Hans drøm var å fremstille kunstgjødsel\, slik at verden kunne produsere nok mat. Dette krevde mye energi. Dermed ble Vemork bygget i 1911 – den gang verdens største kraftstasjon. \nDette ble starten på en spennende utvikling for Rjukan og for hele Norge. Så interessant er dette\, at Rjukan nå er på UNESCOs liste over verdensarvsteder. \nLandets fremste arkitekter planla og tegnet alle bygninger i det som skulle bli Rjukan by. I 1920 stod en moderne by ferdig med 9 000 innbyggere. \nI vintermånedene er sola borte fra dalen. Derfor bygde Norsk Hydro Krossobanen\, Nord-Europas første toveis kabelbane. Rjukanbanen\, med ferge over Tinnsjøen\, ble bygget for å frakte kunstgjødselet ut til kysten. \nVemork kraftstasjon har nå blitt Norsk Industriarbeidermuseum hvor du kan oppleve det fantastiske energieventyret og se utstillinger fra industriutviklingen i Norge og på Rjukan. \nDette og mer til kan du få informasjon om av de kunnskapsrike guidene på Snutebussen. \n 
URL:https://www.industriarven.no/event/guidet-tur-med-snutebussen/
CATEGORIES:Aktivitet
ATTACH;FMTTYPE=image/jpeg:https://www.industriarven.no/wp-content/uploads/2018/05/snutebuss.jpg
END:VEVENT
BEGIN:VEVENT
DTSTART;VALUE=DATE:20180625
DTEND;VALUE=DATE:20180811
DTSTAMP:20260421T135150
CREATED:20180530T093534Z
LAST-MODIFIED:20180619T225904Z
UID:2773-1529884800-1533945599@www.industriarven.no
SUMMARY:Mæl stasjonsområde og fergeleie
DESCRIPTION:Her finner du også nyttig informasjon\, Mæl Kafé og vår museumsbutikk. Fra Juli er det omvisninger i den unike dampfergen Ammonia. Rjukanbanens formidler beskriver transportåren – det mest komplekse og langstrakte teknisk-industrielle kulturminnet i Norge. \nPriser inngang og omvisning\nVoksen kr 60\,-\nHonnør kr 50\,-\nStudent kr 50\,-\nUngdom (10-18 år) kr 30\,-\nBarn (under 10 år) kr 0\,- \nSkoleklasser kr. 50 pr elev (omvisning). Egne priser for spesialtilpasset pedagogiske opplegg.
URL:https://www.industriarven.no/event/mael-stasjonsomrade-og-fergeleie/
CATEGORIES:Utstilling
ATTACH;FMTTYPE=image/jpeg:https://www.industriarven.no/wp-content/uploads/2018/05/rju_2015-09-07_004.jpg
END:VEVENT
BEGIN:VEVENT
DTSTART;VALUE=DATE:20180616
DTEND;VALUE=DATE:20180819
DTSTAMP:20260421T135150
CREATED:20180504T133500Z
LAST-MODIFIED:20180619T230144Z
UID:2683-1529107200-1534636799@www.industriarven.no
SUMMARY:Verdensarvbuss på Notodden
DESCRIPTION:Verdensarvturer i buss med egen guide\nVerdensarvbuss kl.11.00 hver dag 2. juli til 3. august + 16. og 23. juni\, og 18 august.\nBussavgang og billetter i Bok & Blueshuset\, kr. 250\,- www.bokogblueshuset.no \n(Barn under 12 år gratis) \nDeltakerne får oppleve sentrale steder i verdensarven på Notodden. Verdensarvbussen på Notodden kjører hver dag fra Bok & Blueshuset. Turen inkluderer omvisning i Lysbuen industrimuseum\, samt Kanalveien\, Hyttebyen\, Grønnebyen og Admini og avsluttes utenfor Ovnshus A i Hydroparken. \nTuren kan avsluttes med lunsj på Stasjonen Kafé (ikke inkludert i prisen)
URL:https://www.industriarven.no/event/verdensarvbuss-pa-notodden/
CATEGORIES:Aktivitet
ATTACH;FMTTYPE=image/jpeg:https://www.industriarven.no/wp-content/uploads/2018/05/IMG_0121.jpg
END:VEVENT
BEGIN:VEVENT
DTSTART;VALUE=DATE:20180501
DTEND;VALUE=DATE:20181001
DTSTAMP:20260421T135150
CREATED:20171212T160140Z
LAST-MODIFIED:20180619T230344Z
UID:1174-1525132800-1538351999@www.industriarven.no
SUMMARY:Rjukan museumsbane
DESCRIPTION:Rjukanbanen\, også kalt Vestfjorddalsbanen\, ble åpnet i 1909 og nedlagt i 1991. I dag er banen et fredet industrielt kulturminne og en del av “Rjukan – Notodden Industriarv” Arven etter etableringen av konsernet Hydro ble innskrevet på UNESCOs verdensarvliste 5. juli 2015. \nMuseumsbane forvaltes av NIA og befordrer passasjerer etter rutetabell eller ved bestilling sommeren gjennom. Jernbaneferga M/F Storegut tilbyr en idyllisk og tradisjonsmettet reiseopplevelse på Tinnsjøen. Togturen med Rjukanbanens turmateriell og diesellok fra 1950-tallet går mellom Mæl og Rjukan stasjoner flere ganger I uka. \n\n                \n                    Rjukan-Notodden industriarv – App\n                     Forrige\n                    1 av 4\n                    Neste \n                \n                \n                        \n                            \n                        \n                    Rjukanbanen.\nFoto: Gary Payton\n                        \n                            \n                        \n                    MF-Storegut.\nFoto: Mette Alvefoss\n                        \n                            \n                        \n                    Skolebesøk på Mæl. \nHenschel og Storegut.Foto: Kirsten Lurås\n                        \n                            \n                        \n                    Storegut ankommer fergeleiet.\nFoto: Tom Hansen\nPå Mæl stasjonsområde og fergeleie ligger jernbanefergene D/F Ammonia og M/F Storegut. En 16 kilometer lang togtur østover fra Rjukan stasjon og fabrikkområde tar deg til Mæl i løpet av 45 minutter. Et eget sidespor fra Rjukanbanen – Vemork-linja var – lenka mellom Rjukan Fabrikker\, Vemork Kraftstasjon og fra 1929 Hydrogenfabrikken på Vemork. I løpet av togturen beskriver våre formidlere historien om Rjukanbanen og industrireisingen I området\, spesielle hendelser og banens unike fredede jernbanemateriell. \nTinnoset var i sin tid et av de jernbaneområdene i Norge med som hadde størst mengde godspassering. Her finner du Tinnoset fergeleie\, slippanlegget til Hydro\, verksteder og Tinnoset stasjon i sørenden av Tinnsjøen. M/F Storegut har anløp Tinnoset med jevne mellomrom.
URL:https://www.industriarven.no/event/rjukan-museumsbane/
CATEGORIES:Aktivitet
ATTACH;FMTTYPE=image/jpeg:https://www.industriarven.no/wp-content/uploads/2017/12/20160712_150642-Ankomst-Mael-med-Rjukanbanen-Foto-Hilde-S.-Widvey.jpg
END:VEVENT
BEGIN:VEVENT
DTSTART;VALUE=DATE:20180101
DTEND;VALUE=DATE:20190101
DTSTAMP:20260421T135150
CREATED:20180507T134459Z
LAST-MODIFIED:20180619T230957Z
UID:2707-1514764800-1546300799@www.industriarven.no
SUMMARY:Lei Snutebussen med Guide
DESCRIPTION:Med en guidet tur rundt i Rjukan by får du et innblikk i hvordan Rjukan ble bygd opp for 100 år siden. Turen tar du med Snutebussen fra 1956. \nEn guidet tur med «Snutebussen» er en flott måte å få et innblikk i Rjukans verdensarv på.\n  \nRjukans historie\nI begynnelsen av forrige århundre bestod Vestfjorddalen av noen få gårdsbruk. Så kom Sam Eyde og «oppdaget» Rjukanfossen. Hans drøm var å fremstille kunstgjødsel\, slik at verden kunne produsere nok mat. Dette krevde mye energi. Dermed ble Vemork bygget i 1911 – den gang verdens største kraftstasjon. \nDette ble starten på en spennende utvikling for Rjukan og for hele Norge. Så interessant er dette\, at Rjukan nå er på UNESCOs liste over verdensarvsteder. \nLandets fremste arkitekter planla og tegnet alle bygninger i det som skulle bli Rjukan by. I 1920 stod en moderne by ferdig med 9 000 innbyggere. \nI vintermånedene er sola borte fra dalen. Derfor bygde Norsk Hydro Krossobanen\, Nord-Europas første toveis kabelbane. Rjukanbanen\, med ferge over Tinnsjøen\, ble bygget for å frakte kunstgjødselet ut til kysten. \nVemork kraftstasjon har nå blitt Norsk Industriarbeidermuseum hvor du kan oppleve det fantastiske energieventyret og se utstillinger fra industriutviklingen i Norge og på Rjukan. \nDette og mer til kan du få informasjon om av de kunnskapsrike guidene på Snutebussen. \n  \n© Fotograf Jacobsen\n 
URL:https://www.industriarven.no/event/lei-snutebussen-med-guide/
CATEGORIES:Aktivitet
ATTACH;FMTTYPE=image/jpeg:https://www.industriarven.no/wp-content/uploads/2018/05/snutebuss_2.jpg
END:VEVENT
END:VCALENDAR