BEGIN:VCALENDAR
VERSION:2.0
PRODID:-//Verdensarven i Telemark - ECPv6.15.7//NONSGML v1.0//EN
CALSCALE:GREGORIAN
METHOD:PUBLISH
X-WR-CALNAME:Verdensarven i Telemark
X-ORIGINAL-URL:https://www.industriarven.no
X-WR-CALDESC:Arrangementer for Verdensarven i Telemark
REFRESH-INTERVAL;VALUE=DURATION:PT1H
X-Robots-Tag:noindex
X-PUBLISHED-TTL:PT1H
BEGIN:VTIMEZONE
TZID:Europe/Oslo
BEGIN:DAYLIGHT
TZOFFSETFROM:+0100
TZOFFSETTO:+0200
TZNAME:CEST
DTSTART:20260329T010000
END:DAYLIGHT
BEGIN:STANDARD
TZOFFSETFROM:+0200
TZOFFSETTO:+0100
TZNAME:CET
DTSTART:20261025T010000
END:STANDARD
BEGIN:DAYLIGHT
TZOFFSETFROM:+0100
TZOFFSETTO:+0200
TZNAME:CEST
DTSTART:20270328T010000
END:DAYLIGHT
BEGIN:STANDARD
TZOFFSETFROM:+0200
TZOFFSETTO:+0100
TZNAME:CET
DTSTART:20271031T010000
END:STANDARD
BEGIN:DAYLIGHT
TZOFFSETFROM:+0100
TZOFFSETTO:+0200
TZNAME:CEST
DTSTART:20280326T010000
END:DAYLIGHT
BEGIN:STANDARD
TZOFFSETFROM:+0200
TZOFFSETTO:+0100
TZNAME:CET
DTSTART:20281029T010000
END:STANDARD
BEGIN:DAYLIGHT
TZOFFSETFROM:+0100
TZOFFSETTO:+0200
TZNAME:CEST
DTSTART:20290325T010000
END:DAYLIGHT
BEGIN:STANDARD
TZOFFSETFROM:+0200
TZOFFSETTO:+0100
TZNAME:CET
DTSTART:20291028T010000
END:STANDARD
BEGIN:DAYLIGHT
TZOFFSETFROM:+0100
TZOFFSETTO:+0200
TZNAME:CEST
DTSTART:20300331T010000
END:DAYLIGHT
BEGIN:STANDARD
TZOFFSETFROM:+0200
TZOFFSETTO:+0100
TZNAME:CET
DTSTART:20301027T010000
END:STANDARD
BEGIN:DAYLIGHT
TZOFFSETFROM:+0100
TZOFFSETTO:+0200
TZNAME:CEST
DTSTART:20310330T010000
END:DAYLIGHT
BEGIN:STANDARD
TZOFFSETFROM:+0200
TZOFFSETTO:+0100
TZNAME:CET
DTSTART:20311026T010000
END:STANDARD
BEGIN:DAYLIGHT
TZOFFSETFROM:+0100
TZOFFSETTO:+0200
TZNAME:CEST
DTSTART:20320328T010000
END:DAYLIGHT
BEGIN:STANDARD
TZOFFSETFROM:+0200
TZOFFSETTO:+0100
TZNAME:CET
DTSTART:20321031T010000
END:STANDARD
BEGIN:DAYLIGHT
TZOFFSETFROM:+0100
TZOFFSETTO:+0200
TZNAME:CEST
DTSTART:20330327T010000
END:DAYLIGHT
BEGIN:STANDARD
TZOFFSETFROM:+0200
TZOFFSETTO:+0100
TZNAME:CET
DTSTART:20331030T010000
END:STANDARD
BEGIN:DAYLIGHT
TZOFFSETFROM:+0100
TZOFFSETTO:+0200
TZNAME:CEST
DTSTART:20340326T010000
END:DAYLIGHT
BEGIN:STANDARD
TZOFFSETFROM:+0200
TZOFFSETTO:+0100
TZNAME:CET
DTSTART:20341029T010000
END:STANDARD
BEGIN:DAYLIGHT
TZOFFSETFROM:+0100
TZOFFSETTO:+0200
TZNAME:CEST
DTSTART:20350325T010000
END:DAYLIGHT
BEGIN:STANDARD
TZOFFSETFROM:+0200
TZOFFSETTO:+0100
TZNAME:CET
DTSTART:20351028T010000
END:STANDARD
BEGIN:DAYLIGHT
TZOFFSETFROM:+0100
TZOFFSETTO:+0200
TZNAME:CEST
DTSTART:20360330T010000
END:DAYLIGHT
BEGIN:STANDARD
TZOFFSETFROM:+0200
TZOFFSETTO:+0100
TZNAME:CET
DTSTART:20361026T010000
END:STANDARD
BEGIN:DAYLIGHT
TZOFFSETFROM:+0100
TZOFFSETTO:+0200
TZNAME:CEST
DTSTART:20370329T010000
END:DAYLIGHT
BEGIN:STANDARD
TZOFFSETFROM:+0200
TZOFFSETTO:+0100
TZNAME:CET
DTSTART:20371025T010000
END:STANDARD
END:VTIMEZONE
BEGIN:VEVENT
DTSTART;VALUE=DATE:20270501
DTEND;VALUE=DATE:20380506
DTSTAMP:20260421T235528
CREATED:20171212T003515Z
LAST-MODIFIED:20190712T092435Z
UID:1111-1809129600-2156716799@www.industriarven.no
SUMMARY:Verdensarvsenteret - Gnisten
DESCRIPTION:Fremstillingen av «Norgessalpeter» la grunnlaget for etableringen av Norsk Hydro i 1905. Gjødselproduktet la grunnlaget for utviklingen av to helt nye bysamfunn; Notodden og Rjukan i Telemark. \nNotodden ble den første arenaen for det moderne eventyret. Et besøk i industrimuseet vil gi deg ny og viktig kunnskap om det som var med på å gi Notodden og Rjukan en plass på verdensarvlista til UNESCO.
URL:https://www.industriarven.no/event/gnisten/
CATEGORIES:Utstilling
ATTACH;FMTTYPE=image/jpeg:https://www.industriarven.no/wp-content/uploads/2017/12/Lysbuen5.jpg
END:VEVENT
BEGIN:VEVENT
DTSTART;VALUE=DATE:20270604
DTEND;VALUE=DATE:20370605
DTSTAMP:20260421T235528
CREATED:20171212T224330Z
LAST-MODIFIED:20180618T212856Z
UID:1252-1812067200-2127772799@www.industriarven.no
SUMMARY:Maskinhallen
DESCRIPTION:Gamle Vemork kraftstasjon og maskinhallen er sterke og solide symboler på naturen som ble temmet til fordel for utbyggingen av industri. Opprinnelig var det 10 turbiner i maskinhallen\, men da kraftstasjonen ble nedlagt i 1971 ble 4 av dem fjernet. \nMaskinhallen brukes i dag til konserter\, arrangementer\, omvisninger og annen formidling. Det er mulig å leie hallen til selskaper og events. \n\n                \n                    Rjukan-Notodden industriarv – App\n                     Forrige\n                    1 av 2\n                    Neste \n                \n                \n                        \n                            \n                        \n                    Norsk Industriarbeidermuseum.\nFoto: Bjørn-Owe Holmberg/NIA\n                        \n                            \n                        \n                    Maskinhall.\nFoto: Per Berntsen/NIA
URL:https://www.industriarven.no/event/maskinhallen/
CATEGORIES:Utstilling
ATTACH;FMTTYPE=image/jpeg:https://www.industriarven.no/wp-content/uploads/2017/12/vemork-14.jpg
END:VEVENT
BEGIN:VEVENT
DTSTART;VALUE=DATE:20270626
DTEND;VALUE=DATE:20271015
DTSTAMP:20260421T235528
CREATED:20171212T171734Z
LAST-MODIFIED:20180619T113853Z
UID:1210-1813968000-1823558399@www.industriarven.no
SUMMARY:Bli kjent med Rjukanbanen
DESCRIPTION:Hvorfor ble det bygget jernbane med fergetrasé fra Notodden til Rjukan? Hva skjedde på stasjonsområdene? Hvilke yrkesgrupper jobbet her? Hva gjorde de? Hva ble fraktet opp og ned mellom Rjukan/Mæl og ut til verden? Hva er spesielt med en industrijernbane? \nBarna som har sin oppvekst i dette distriktet i dag\, har ingen selvstendige referanser til industrien og transportåren som ble etablert her på 1900-tallet. Det er avgjørende for NIA at små barn knyttes til UNESCO-listede Rjukan – Notodden Industriarv så tidlig som mulig gjennom sin egen erfaring. Positive opplevelser inn mot de industrielle kulturminnene legger grunnlag for senere eierskapsforhold til jernbaneområdene\, togtrafikken\, og historien om etableringen av Hydros egen transportåre. \n\n                \n                    Rjukan-Notodden industriarv – App\n                     Forrige\n                    1 av 5\n                    Neste \n                \n                \n                        \n                            \n                        \n                    Besøk på Mæl stasjon.\nFoto: Hilde S. Widvey/NIA\n\n                        \n                            \n                        \n                    barnehage på tur.\nFoto: NIA\n                        \n                            \n                        \n                    Gransherad bhg. på-Storegut.\nFoto: Hilde S. Widvey/NIA\n                        \n                            \n                        \n                    Skipskatta Sinus på 1.plass.\nFoto: Hilde S. Widvey/NIA\n                        \n                            \n                        \n                    barnehage på besøk.\nFoto: NIA\n 
URL:https://www.industriarven.no/event/bli-kjent-med-rjukanbanen-2/
CATEGORIES:Aktivitet
ATTACH;FMTTYPE=image/jpeg:https://www.industriarven.no/wp-content/uploads/2017/12/20171003_124311-Skipskatta-Sinus-i-maskin-Storegut-Foto-Hilde-S.-Widvey.jpg
END:VEVENT
END:VCALENDAR